BEGIN:VCALENDAR
VERSION:2.0
PRODID:-//West Side Mutual Aid - ECPv6.0.13.1//NONSGML v1.0//EN
CALSCALE:GREGORIAN
METHOD:PUBLISH
X-WR-CALNAME:West Side Mutual Aid
X-ORIGINAL-URL:https://wsmafire.com
X-WR-CALDESC:Events for West Side Mutual Aid
REFRESH-INTERVAL;VALUE=DURATION:PT1H
X-Robots-Tag:noindex
X-PUBLISHED-TTL:PT1H
BEGIN:VTIMEZONE
TZID:America/New_York
BEGIN:DAYLIGHT
TZOFFSETFROM:-0500
TZOFFSETTO:-0400
TZNAME:EDT
DTSTART:20150308T070000
END:DAYLIGHT
BEGIN:STANDARD
TZOFFSETFROM:-0400
TZOFFSETTO:-0500
TZNAME:EST
DTSTART:20151101T060000
END:STANDARD
BEGIN:DAYLIGHT
TZOFFSETFROM:-0500
TZOFFSETTO:-0400
TZNAME:EDT
DTSTART:20160313T070000
END:DAYLIGHT
BEGIN:STANDARD
TZOFFSETFROM:-0400
TZOFFSETTO:-0500
TZNAME:EST
DTSTART:20161106T060000
END:STANDARD
BEGIN:DAYLIGHT
TZOFFSETFROM:-0500
TZOFFSETTO:-0400
TZNAME:EDT
DTSTART:20170312T070000
END:DAYLIGHT
BEGIN:STANDARD
TZOFFSETFROM:-0400
TZOFFSETTO:-0500
TZNAME:EST
DTSTART:20171105T060000
END:STANDARD
BEGIN:DAYLIGHT
TZOFFSETFROM:-0500
TZOFFSETTO:-0400
TZNAME:EDT
DTSTART:20180311T070000
END:DAYLIGHT
BEGIN:STANDARD
TZOFFSETFROM:-0400
TZOFFSETTO:-0500
TZNAME:EST
DTSTART:20181104T060000
END:STANDARD
END:VTIMEZONE
BEGIN:VEVENT
DTSTART;TZID=America/New_York:20150806T080000
DTEND;TZID=America/New_York:20151029T170000
DTSTAMP:20260421T101711
CREATED:20150806T170216Z
LAST-MODIFIED:20150806T170216Z
UID:176-1438848000-1446138000@wsmafire.com
SUMMARY:911 Radio System Needs Assessment & Strategic Plan Survey
DESCRIPTION:Luzerne County 911 is conducting a radio survey.\n\nAll agencies are urged to complete the survey.  All surveys must be completed by September 30\, 2015.\nA flyer will be sent in the next few weeks for meetings to discuss your interests\, needs and priorities for the radio system.\nThe web link is    hhtps://www.surveymonkey.com/r/LuzerneCounty911
URL:https://wsmafire.com/event/911-radio-system-needs-assessment-strategic-plan-survey/
LOCATION:9-1-1 Communications Center\, 100 Young Street\, Hanover Toenship\, PA\, 18706\, United States
END:VEVENT
BEGIN:VEVENT
DTSTART;TZID=America/New_York:20151116T193000
DTEND;TZID=America/New_York:20151116T203000
DTSTAMP:20260421T101711
CREATED:20150706T195141Z
LAST-MODIFIED:20150706T195141Z
UID:167-1447702200-1447705800@wsmafire.com
SUMMARY:Monthly Meeting - Edwardsville Fire Dept.
DESCRIPTION:
URL:https://wsmafire.com/event/monthly-meeting-edwardsville-fire-dept/
LOCATION:Edwardsville Fire Deptment\, 470 Main Street\, Edwardsville\, PA\, 18704\, United States
CATEGORIES:Meeting
END:VEVENT
BEGIN:VEVENT
DTSTART;TZID=America/New_York:20151122T140000
DTEND;TZID=America/New_York:20151122T140000
DTSTAMP:20260421T101711
CREATED:20151117T190139Z
LAST-MODIFIED:20151117T190139Z
UID:179-1448200800-1448200800@wsmafire.com
SUMMARY:Santa Parade
DESCRIPTION:         Santa is coming to Town! \nWyoming #2 and Forty Fort Fire Departments \nare having their Santa Parade on Sunday November 22nd at 2 PM. \nParade line up is at 1 PM on 1st Street in Wyoming. \nCome out and meet Santa.
URL:https://wsmafire.com/event/santa-parade/
LOCATION:PA\, United States
END:VEVENT
BEGIN:VEVENT
DTSTART;TZID=America/New_York:20160208T203000
DTEND;TZID=America/New_York:20160308T170000
DTSTAMP:20260421T101711
CREATED:20160202T165638Z
LAST-MODIFIED:20160202T173007Z
UID:182-1454963400-1457456400@wsmafire.com
SUMMARY:Technical Rescue Training
DESCRIPTION:Technical Rescue Core 1006\nLocation:  Kingston Fire Department \nDates: \nFebruary 8\, 2016 Monday  1830 – 2230        Module 1 & Module 11 \nFebruary 13\, 2016 Saturday  0830 – 1700    Module 11\, Module 111\, Module IV\, Module V \nFebruary 16\, 2016 Tuesday  1830 – 2230     Module VI \nFebruary 20\, 2016 Saturday  0830 – 1700     Practical \nFebruary 23\, 2016 Tuesday 1830 – 2230       Module VI \nFebruary 27\, 2016 Saturday 083 – 1700        Practical \nMarch 1\, 2016 Tuesday 1830 – 2230             Practical \nMarch 5\, 2016 Saturday 0830 – 1700            Practical \nCourse Details on Kingston Fire Dept Page
URL:https://wsmafire.com/event/technical-rescue-training/
LOCATION:Kingston Fire Department\, 600 Wyoming Ave.\, Kingston\, PA\, 18704\, United States
END:VEVENT
BEGIN:VEVENT
DTSTART;TZID=America/New_York:20170420T183000
DTEND;TZID=America/New_York:20170420T220000
DTSTAMP:20260421T101711
CREATED:20170306T194213Z
LAST-MODIFIED:20170417T123109Z
UID:192-1492713000-1492725600@wsmafire.com
SUMMARY:
DESCRIPTION:Emergency Reporting  Penn FIRS Training \nThursday April 20\, 2017                   6:30 PM to 10:00 PM \nLocation:      Wyoming Hose Co. # 2 \n70 East 3rd Street \nWyoming\, PA  18644 \nReserve a spot today!  Email Kraig at OSFC (krherman@pa.gov)\nwith number of attendees. \n                       ** Please bring computer / device **
URL:https://wsmafire.com/event/192/
LOCATION:Wyoming Hose Co. # 2\, 70 East 3rd Street\, Wyoming\, PA\, 18644\, United States
END:VEVENT
BEGIN:VEVENT
DTSTART;TZID=America/New_York:20180826T113000
DTEND;TZID=America/New_York:20180826T160000
DTSTAMP:20260421T101711
CREATED:20170705T160735Z
LAST-MODIFIED:20180813T201653Z
UID:213-1535283000-1535299200@wsmafire.com
SUMMARY:Chicken BBQ - Luzerne Fire Dept.
DESCRIPTION:Annual Chicken BBQ \nFire Department Hall \n66 Tener Street\, Luzerne PA \n11:30 AM to 4:00 PM \nCost $9.00 \nEat in or Take out.  \nPurchase tickets ahead of time\nat 570-2249 or 570-287-7006. \nLimited amount of tickets\nsold at the door \nMeals must be picked up by 4:30 PM
URL:https://wsmafire.com/event/chicken-bbq-luzerne-fire-dept/
LOCATION:Luzerne Fire Dept.\, 66 Tener Street
END:VEVENT
END:VCALENDAR